Package: ggspavis Version: 1.12.0 Command: rm -rf ggspavis.buildbin-libdir && mkdir ggspavis.buildbin-libdir && /Users/biocbuild/BBS/utils/build-universal.sh ggspavis_1.12.0.tar.gz /Library/Frameworks/R.framework/Resources/bin/R ggspavis.buildbin-libdir StartedAt: 2025-02-12 15:17:29 -0500 (Wed, 12 Feb 2025) EndedAt: 2025-02-12 15:18:03 -0500 (Wed, 12 Feb 2025) EllapsedTime: 34.3 seconds RetCode: 0 Status: OK PackageFile: ggspavis_1.12.0.tgz PackageFileSize: 6.872 MiB