Package: ggspavis Version: 1.12.0 Command: /Library/Frameworks/R.framework/Resources/bin/R CMD build --keep-empty-dirs --no-resave-data ggspavis StartedAt: 2025-02-11 00:33:50 -0500 (Tue, 11 Feb 2025) EndedAt: 2025-02-11 00:35:38 -0500 (Tue, 11 Feb 2025) EllapsedTime: 107.8 seconds RetCode: 0 Status: OK PackageFile: ggspavis_1.12.0.tar.gz PackageFileSize: 6.818 MiB