Package: ggspavis Version: 1.12.0 Command: /Library/Frameworks/R.framework/Resources/bin/R CMD build --keep-empty-dirs --no-resave-data ggspavis StartedAt: 2025-02-10 19:12:45 -0500 (Mon, 10 Feb 2025) EndedAt: 2025-02-10 19:15:56 -0500 (Mon, 10 Feb 2025) EllapsedTime: 191.3 seconds RetCode: 0 Status: OK PackageFile: ggspavis_1.12.0.tar.gz PackageFileSize: 6.8 MiB