Package: ggspavis Version: 1.12.0 Command: /Library/Frameworks/R.framework/Resources/bin/R CMD check --install=check:ggspavis.install-out.txt --library=/Library/Frameworks/R.framework/Resources/library --no-vignettes --timings ggspavis_1.12.0.tar.gz StartedAt: 2025-02-04 04:27:04 -0500 (Tue, 04 Feb 2025) EndedAt: 2025-02-04 04:35:15 -0500 (Tue, 04 Feb 2025) EllapsedTime: 490.9 seconds RetCode: 0 Status: OK CheckDir: ggspavis.Rcheck Warnings: 0