Package: ggspavis Version: 1.12.0 Command: /home/biocbuild/bbs-3.20-bioc/R/bin/R CMD build --keep-empty-dirs --no-resave-data --md5 ggspavis StartedAt: 2025-02-03 17:36:45 -0500 (Mon, 03 Feb 2025) EndedAt: 2025-02-03 17:38:19 -0500 (Mon, 03 Feb 2025) EllapsedTime: 94.1 seconds RetCode: 0 Status: OK PackageFile: ggspavis_1.12.0.tar.gz PackageFileSize: 5.994 MiB