Package: ggspavis Version: 1.12.0 Command: /home/biocbuild/R/R/bin/R CMD build --keep-empty-dirs --no-resave-data ggspavis StartedAt: 2025-02-03 23:56:51 -0000 (Mon, 03 Feb 2025) EndedAt: 2025-02-03 23:58:41 -0000 (Mon, 03 Feb 2025) EllapsedTime: 110.1 seconds RetCode: 0 Status: OK PackageFile: ggspavis_1.12.0.tar.gz PackageFileSize: 2.268 MiB