Package: ggspavis Version: 1.12.0 Command: /home/biocbuild/R/R/bin/R CMD check --install=check:ggspavis.install-out.txt --library=/home/biocbuild/R/R/site-library --no-vignettes --timings ggspavis_1.12.0.tar.gz StartedAt: 2025-02-11 06:41:32 -0000 (Tue, 11 Feb 2025) EndedAt: 2025-02-11 06:46:08 -0000 (Tue, 11 Feb 2025) EllapsedTime: 276.2 seconds RetCode: 0 Status: OK CheckDir: ggspavis.Rcheck Warnings: 0