Package: ggtree Version: 3.14.0 Command: /Library/Frameworks/R.framework/Resources/bin/R CMD build --keep-empty-dirs --no-resave-data ggtree StartedAt: 2025-02-04 00:25:23 -0500 (Tue, 04 Feb 2025) EndedAt: 2025-02-04 00:25:39 -0500 (Tue, 04 Feb 2025) EllapsedTime: 16.0 seconds RetCode: 0 Status: OK PackageFile: ggtree_3.14.0.tar.gz PackageFileSize: 353.2 KiB