Package: ggtree Version: 3.14.0 Command: /Library/Frameworks/R.framework/Resources/bin/R CMD INSTALL ggtree StartedAt: 2025-02-10 16:22:05 -0500 (Mon, 10 Feb 2025) EndedAt: 2025-02-10 16:22:16 -0500 (Mon, 10 Feb 2025) EllapsedTime: 11.4 seconds RetCode: 0 Status: OK