Package: ggtree Version: 3.14.0 Command: /Library/Frameworks/R.framework/Resources/bin/R CMD INSTALL ggtree StartedAt: 2025-02-03 15:52:01 -0500 (Mon, 03 Feb 2025) EndedAt: 2025-02-03 15:52:27 -0500 (Mon, 03 Feb 2025) EllapsedTime: 25.8 seconds RetCode: 0 Status: OK