Package: ggtree Version: 3.14.0 Command: chmod a+r ggtree -R && F:\biocbuild\bbs-3.20-bioc\R\bin\R.exe CMD build --keep-empty-dirs --no-resave-data ggtree StartedAt: 2025-02-03 19:28:51 -0500 (Mon, 03 Feb 2025) EndedAt: 2025-02-03 19:29:29 -0500 (Mon, 03 Feb 2025) EllapsedTime: 38.4 seconds RetCode: 0 Status: OK PackageFile: ggtree_3.14.0.tar.gz PackageFileSize: 353.3 KiB