Package: ggtree Version: 3.14.0 Command: F:\biocbuild\bbs-3.20-bioc\R\bin\R.exe CMD check --no-multiarch --install=check:ggtree.install-out.txt --library=F:\biocbuild\bbs-3.20-bioc\R\library --no-vignettes --timings ggtree_3.14.0.tar.gz StartedAt: 2025-02-04 02:21:10 -0500 (Tue, 04 Feb 2025) EndedAt: 2025-02-04 02:22:58 -0500 (Tue, 04 Feb 2025) EllapsedTime: 108.2 seconds RetCode: 0 Status: OK CheckDir: ggtree.Rcheck Warnings: 0