Package: ggtree Version: 3.14.0 Command: F:\biocbuild\bbs-3.20-bioc\R\bin\R.exe CMD INSTALL ggtree StartedAt: 2025-02-03 15:48:47 -0500 (Mon, 03 Feb 2025) EndedAt: 2025-02-03 15:50:03 -0500 (Mon, 03 Feb 2025) EllapsedTime: 75.1 seconds RetCode: 0 Status: OK