Package: ggtreeDendro Version: 1.8.0 Command: /Library/Frameworks/R.framework/Resources/bin/R CMD check --install=check:ggtreeDendro.install-out.txt --library=/Library/Frameworks/R.framework/Resources/library --no-vignettes --timings ggtreeDendro_1.8.0.tar.gz StartedAt: 2025-02-04 21:24:52 -0500 (Tue, 04 Feb 2025) EndedAt: 2025-02-04 21:25:44 -0500 (Tue, 04 Feb 2025) EllapsedTime: 51.9 seconds RetCode: 0 Status: WARNINGS CheckDir: ggtreeDendro.Rcheck Warnings: 1