Package: ggtreeDendro Version: 1.8.0 Command: /Library/Frameworks/R.framework/Resources/bin/R CMD INSTALL ggtreeDendro StartedAt: 2025-02-10 16:23:34 -0500 (Mon, 10 Feb 2025) EndedAt: 2025-02-10 16:23:40 -0500 (Mon, 10 Feb 2025) EllapsedTime: 6.3 seconds RetCode: 0 Status: OK