Package: ggtreeDendro Version: 1.8.0 Command: /Library/Frameworks/R.framework/Resources/bin/R CMD build --keep-empty-dirs --no-resave-data ggtreeDendro StartedAt: 2025-02-03 19:16:17 -0500 (Mon, 03 Feb 2025) EndedAt: 2025-02-03 19:16:47 -0500 (Mon, 03 Feb 2025) EllapsedTime: 30.5 seconds RetCode: 0 Status: OK PackageFile: ggtreeDendro_1.8.0.tar.gz PackageFileSize: 407.7 KiB