Package: ggtreeDendro Version: 1.8.0 Command: /home/biocbuild/bbs-3.20-bioc/R/bin/R CMD build --keep-empty-dirs --no-resave-data --md5 ggtreeDendro StartedAt: 2025-02-03 17:36:49 -0500 (Mon, 03 Feb 2025) EndedAt: 2025-02-03 17:37:01 -0500 (Mon, 03 Feb 2025) EllapsedTime: 12.0 seconds RetCode: 0 Status: OK PackageFile: ggtreeDendro_1.8.0.tar.gz PackageFileSize: 429.3 KiB