Package: ggtreeDendro Version: 1.8.0 Command: /home/biocbuild/bbs-3.20-bioc/R/bin/R CMD INSTALL ggtreeDendro StartedAt: 2025-02-03 15:28:53 -0500 (Mon, 03 Feb 2025) EndedAt: 2025-02-03 15:28:57 -0500 (Mon, 03 Feb 2025) EllapsedTime: 4.3 seconds RetCode: 0 Status: OK