Package: ggtreeDendro Version: 1.8.0 Command: F:\biocbuild\bbs-3.20-bioc\R\bin\R.exe CMD check --no-multiarch --install=check:ggtreeDendro.install-out.txt --library=F:\biocbuild\bbs-3.20-bioc\R\library --no-vignettes --timings ggtreeDendro_1.8.0.tar.gz StartedAt: 2025-02-04 02:21:13 -0500 (Tue, 04 Feb 2025) EndedAt: 2025-02-04 02:22:18 -0500 (Tue, 04 Feb 2025) EllapsedTime: 64.8 seconds RetCode: 0 Status: WARNINGS CheckDir: ggtreeDendro.Rcheck Warnings: 1