Package: ggtreeDendro Version: 1.8.0 Command: F:\biocbuild\bbs-3.20-bioc\R\bin\R.exe CMD INSTALL ggtreeDendro StartedAt: 2025-02-03 15:56:43 -0500 (Mon, 03 Feb 2025) EndedAt: 2025-02-03 15:56:59 -0500 (Mon, 03 Feb 2025) EllapsedTime: 15.8 seconds RetCode: 0 Status: OK