Package: ggtreeExtra Version: 1.16.0 Command: /Library/Frameworks/R.framework/Resources/bin/R CMD check --install=check:ggtreeExtra.install-out.txt --library=/Library/Frameworks/R.framework/Resources/library --no-vignettes --timings ggtreeExtra_1.16.0.tar.gz StartedAt: 2025-02-04 21:24:52 -0500 (Tue, 04 Feb 2025) EndedAt: 2025-02-04 21:25:49 -0500 (Tue, 04 Feb 2025) EllapsedTime: 56.5 seconds RetCode: 0 Status: OK CheckDir: ggtreeExtra.Rcheck Warnings: 0