Package: ggtreeExtra Version: 1.16.0 Command: /Library/Frameworks/R.framework/Resources/bin/R CMD INSTALL ggtreeExtra StartedAt: 2025-02-03 16:17:23 -0500 (Mon, 03 Feb 2025) EndedAt: 2025-02-03 16:17:29 -0500 (Mon, 03 Feb 2025) EllapsedTime: 6.9 seconds RetCode: 0 Status: OK