Package: ggtreeExtra Version: 1.16.0 Command: /home/biocbuild/bbs-3.20-bioc/R/bin/R CMD build --keep-empty-dirs --no-resave-data --md5 ggtreeExtra StartedAt: 2025-02-03 17:36:50 -0500 (Mon, 03 Feb 2025) EndedAt: 2025-02-03 17:37:07 -0500 (Mon, 03 Feb 2025) EllapsedTime: 17.0 seconds RetCode: 0 Status: OK PackageFile: ggtreeExtra_1.16.0.tar.gz PackageFileSize: 525 KiB