Package: ggtreeExtra Version: 1.15.0 Command: chmod a+r ggtreeExtra -R && F:\biocbuild\bbs-3.20-bioc\R\bin\R.exe CMD build --keep-empty-dirs --no-resave-data ggtreeExtra StartedAt: 2024-06-09 19:19:30 -0400 (Sun, 09 Jun 2024) EndedAt: 2024-06-09 19:20:18 -0400 (Sun, 09 Jun 2024) EllapsedTime: 47.8 seconds RetCode: 0 Status: OK PackageFile: ggtreeExtra_1.15.0.tar.gz PackageFileSize: 200.1 KiB