Package: ggtreeExtra Version: 1.16.0 Command: rm -rf ggtreeExtra.buildbin-libdir && mkdir ggtreeExtra.buildbin-libdir && F:\biocbuild\bbs-3.20-bioc\R\bin\R.exe CMD INSTALL --build --library=ggtreeExtra.buildbin-libdir ggtreeExtra_1.16.0.tar.gz StartedAt: 2025-02-04 08:36:54 -0500 (Tue, 04 Feb 2025) EndedAt: 2025-02-04 08:37:26 -0500 (Tue, 04 Feb 2025) EllapsedTime: 31.7 seconds RetCode: 0 Status: OK PackageFile: ggtreeExtra_1.16.0.zip PackageFileSize: 333.5 KiB