Package: ggtreeExtra Version: 1.16.0 Command: F:\biocbuild\bbs-3.20-bioc\R\bin\R.exe CMD check --no-multiarch --install=check:ggtreeExtra.install-out.txt --library=F:\biocbuild\bbs-3.20-bioc\R\library --no-vignettes --timings ggtreeExtra_1.16.0.tar.gz StartedAt: 2025-02-04 02:21:15 -0500 (Tue, 04 Feb 2025) EndedAt: 2025-02-04 02:22:30 -0500 (Tue, 04 Feb 2025) EllapsedTime: 74.8 seconds RetCode: 0 Status: OK CheckDir: ggtreeExtra.Rcheck Warnings: 0