Package: globalSeq Version: 1.34.0 Command: /Library/Frameworks/R.framework/Resources/bin/R CMD build --keep-empty-dirs --no-resave-data globalSeq StartedAt: 2025-02-03 19:17:47 -0500 (Mon, 03 Feb 2025) EndedAt: 2025-02-03 19:18:15 -0500 (Mon, 03 Feb 2025) EllapsedTime: 28.3 seconds RetCode: 0 Status: OK PackageFile: globalSeq_1.34.0.tar.gz PackageFileSize: 714.6 KiB