Package: globalSeq Version: 1.34.0 Command: /home/biocbuild/R/R/bin/R CMD INSTALL globalSeq StartedAt: 2025-02-10 20:09:05 -0000 (Mon, 10 Feb 2025) EndedAt: 2025-02-10 20:09:18 -0000 (Mon, 10 Feb 2025) EllapsedTime: 12.8 seconds RetCode: 0 Status: OK