Package: globaltest Version: 5.60.0 Command: /Library/Frameworks/R.framework/Resources/bin/R CMD build --keep-empty-dirs --no-resave-data globaltest StartedAt: 2025-02-11 00:41:15 -0500 (Tue, 11 Feb 2025) EndedAt: 2025-02-11 01:21:16 -0500 (Tue, 11 Feb 2025) EllapsedTime: 2400.1 seconds RetCode: None Status: TIMEOUT PackageFile: None PackageFileSize: NA