Package: globaltest Version: 5.60.0 Command: rm -rf globaltest.buildbin-libdir && mkdir globaltest.buildbin-libdir && /Users/biocbuild/BBS/utils/build-universal.sh globaltest_5.60.0.tar.gz /Library/Frameworks/R.framework/Resources/bin/R globaltest.buildbin-libdir StartedAt: 2025-02-11 13:23:05 -0500 (Tue, 11 Feb 2025) EndedAt: 2025-02-11 13:24:20 -0500 (Tue, 11 Feb 2025) EllapsedTime: 74.8 seconds RetCode: 0 Status: OK PackageFile: globaltest_5.60.0.tgz PackageFileSize: 1.121 MiB