Package: globaltest Version: 5.60.0 Command: /Library/Frameworks/R.framework/Resources/bin/R CMD check --install=check:globaltest.install-out.txt --library=/Library/Frameworks/R.framework/Resources/library --no-vignettes --timings globaltest_5.60.0.tar.gz StartedAt: 2025-02-04 04:30:14 -0500 (Tue, 04 Feb 2025) EndedAt: 2025-02-04 04:34:52 -0500 (Tue, 04 Feb 2025) EllapsedTime: 278.2 seconds RetCode: 0 Status: OK CheckDir: globaltest.Rcheck Warnings: 0