Package: globaltest Version: 5.60.0 Command: /Library/Frameworks/R.framework/Resources/bin/R CMD INSTALL globaltest StartedAt: 2025-02-10 16:16:10 -0500 (Mon, 10 Feb 2025) EndedAt: 2025-02-10 16:17:02 -0500 (Mon, 10 Feb 2025) EllapsedTime: 51.7 seconds RetCode: 0 Status: OK