Package: globaltest Version: 5.60.0 Command: /home/biocbuild/bbs-3.20-bioc/R/bin/R CMD check --install=check:globaltest.install-out.txt --library=/home/biocbuild/bbs-3.20-bioc/R/site-library --timings globaltest_5.60.0.tar.gz StartedAt: 2025-02-03 22:51:58 -0500 (Mon, 03 Feb 2025) EndedAt: 2025-02-03 22:57:16 -0500 (Mon, 03 Feb 2025) EllapsedTime: 318.3 seconds RetCode: 0 Status: OK CheckDir: globaltest.Rcheck Warnings: 0