Package: globaltest Version: 5.60.0 Command: /home/biocbuild/bbs-3.20-bioc/R/bin/R CMD INSTALL globaltest StartedAt: 2025-02-03 15:54:17 -0500 (Mon, 03 Feb 2025) EndedAt: 2025-02-03 15:54:42 -0500 (Mon, 03 Feb 2025) EllapsedTime: 25.8 seconds RetCode: 0 Status: OK