Package: globaltest Version: 5.60.0 Command: rm -rf globaltest.buildbin-libdir && mkdir globaltest.buildbin-libdir && F:\biocbuild\bbs-3.20-bioc\R\bin\R.exe CMD INSTALL --build --library=globaltest.buildbin-libdir globaltest_5.60.0.tar.gz StartedAt: 2025-02-04 08:37:31 -0500 (Tue, 04 Feb 2025) EndedAt: 2025-02-04 08:38:53 -0500 (Tue, 04 Feb 2025) EllapsedTime: 82.0 seconds RetCode: 0 Status: OK PackageFile: globaltest_5.60.0.zip PackageFileSize: 1.126 MiB