Package: globaltest Version: 5.60.0 Command: /home/biocbuild/R/R/bin/R CMD build --keep-empty-dirs --no-resave-data globaltest StartedAt: 2025-02-10 23:50:10 -0000 (Mon, 10 Feb 2025) EndedAt: 2025-02-10 23:55:46 -0000 (Mon, 10 Feb 2025) EllapsedTime: 336.2 seconds RetCode: 0 Status: OK PackageFile: globaltest_5.60.0.tar.gz PackageFileSize: 547.7 KiB