Package: globaltest Version: 5.60.0 Command: /home/biocbuild/R/R/bin/R CMD INSTALL globaltest StartedAt: 2025-02-03 21:08:46 -0000 (Mon, 03 Feb 2025) EndedAt: 2025-02-03 21:09:16 -0000 (Mon, 03 Feb 2025) EllapsedTime: 29.7 seconds RetCode: 0 Status: OK