Package: gmapR Version: 1.48.0 Command: rm -rf gmapR.buildbin-libdir && mkdir gmapR.buildbin-libdir && /Users/biocbuild/BBS/utils/build-universal.sh gmapR_1.48.0.tar.gz /Library/Frameworks/R.framework/Resources/bin/R gmapR.buildbin-libdir StartedAt: 2025-02-12 15:18:51 -0500 (Wed, 12 Feb 2025) EndedAt: 2025-02-12 15:26:23 -0500 (Wed, 12 Feb 2025) EllapsedTime: 452.1 seconds RetCode: 0 Status: OK PackageFile: gmapR_1.48.0.tgz PackageFileSize: 22.22 MiB