Package: gmapR Version: 1.48.0 Command: /Library/Frameworks/R.framework/Resources/bin/R CMD build --keep-empty-dirs --no-resave-data gmapR StartedAt: 2025-02-11 00:44:12 -0500 (Tue, 11 Feb 2025) EndedAt: 2025-02-11 00:51:52 -0500 (Tue, 11 Feb 2025) EllapsedTime: 460.6 seconds RetCode: 0 Status: OK PackageFile: gmapR_1.48.0.tar.gz PackageFileSize: 25.68 MiB