Package: gmapR Version: 1.48.0 Command: rm -rf gmapR.buildbin-libdir && mkdir gmapR.buildbin-libdir && /Users/biocbuild/BBS/utils/build-universal.sh gmapR_1.48.0.tar.gz /Library/Frameworks/R.framework/Resources/bin/R gmapR.buildbin-libdir StartedAt: 2025-02-04 13:04:42 -0500 (Tue, 04 Feb 2025) EndedAt: 2025-02-04 13:22:54 -0500 (Tue, 04 Feb 2025) EllapsedTime: 1092.2 seconds RetCode: 0 Status: OK PackageFile: gmapR_1.48.0.tgz PackageFileSize: 22.52 MiB