Package: gmapR Version: 1.48.0 Command: /Library/Frameworks/R.framework/Resources/bin/R CMD build --keep-empty-dirs --no-resave-data gmapR StartedAt: 2025-02-03 19:17:58 -0500 (Mon, 03 Feb 2025) EndedAt: 2025-02-03 19:32:32 -0500 (Mon, 03 Feb 2025) EllapsedTime: 873.6 seconds RetCode: 0 Status: OK PackageFile: gmapR_1.48.0.tar.gz PackageFileSize: 25.99 MiB