Package: gmapR Version: 1.48.0 Command: /Library/Frameworks/R.framework/Resources/bin/R CMD check --install=check:gmapR.install-out.txt --library=/Library/Frameworks/R.framework/Resources/library --no-vignettes --timings gmapR_1.48.0.tar.gz StartedAt: 2025-02-04 04:30:53 -0500 (Tue, 04 Feb 2025) EndedAt: 2025-02-04 04:43:49 -0500 (Tue, 04 Feb 2025) EllapsedTime: 775.9 seconds RetCode: 0 Status: WARNINGS CheckDir: gmapR.Rcheck Warnings: 7