Package: gmapR Version: 1.48.0 Command: /home/biocbuild/R/R/bin/R CMD INSTALL gmapR StartedAt: 2025-02-10 20:31:39 -0000 (Mon, 10 Feb 2025) EndedAt: 2025-02-10 20:41:14 -0000 (Mon, 10 Feb 2025) EllapsedTime: 574.6 seconds RetCode: 0 Status: OK