Package: gmoviz Version: 1.18.0 Command: /Library/Frameworks/R.framework/Resources/bin/R CMD check --install=check:gmoviz.install-out.txt --library=/Library/Frameworks/R.framework/Resources/library --no-vignettes --timings gmoviz_1.18.0.tar.gz StartedAt: 2025-02-11 21:13:43 -0500 (Tue, 11 Feb 2025) EndedAt: 2025-02-11 21:18:46 -0500 (Tue, 11 Feb 2025) EllapsedTime: 303.1 seconds RetCode: 0 Status: OK CheckDir: gmoviz.Rcheck Warnings: 0