Package: gmoviz Version: 1.18.0 Command: rm -rf gmoviz.buildbin-libdir && mkdir gmoviz.buildbin-libdir && /Users/biocbuild/BBS/utils/build-universal.sh gmoviz_1.18.0.tar.gz /Library/Frameworks/R.framework/Resources/bin/R gmoviz.buildbin-libdir StartedAt: 2025-02-04 13:04:50 -0500 (Tue, 04 Feb 2025) EndedAt: 2025-02-04 13:06:29 -0500 (Tue, 04 Feb 2025) EllapsedTime: 99.5 seconds RetCode: 0 Status: OK PackageFile: gmoviz_1.18.0.tgz PackageFileSize: 6.76 MiB