Package: gmoviz Version: 1.18.0 Command: /Library/Frameworks/R.framework/Resources/bin/R CMD check --install=check:gmoviz.install-out.txt --library=/Library/Frameworks/R.framework/Resources/library --no-vignettes --timings gmoviz_1.18.0.tar.gz StartedAt: 2025-02-04 04:31:29 -0500 (Tue, 04 Feb 2025) EndedAt: 2025-02-04 04:40:30 -0500 (Tue, 04 Feb 2025) EllapsedTime: 541.1 seconds RetCode: 0 Status: OK CheckDir: gmoviz.Rcheck Warnings: 0