Package: gmoviz Version: 1.18.0 Command: /Library/Frameworks/R.framework/Resources/bin/R CMD INSTALL gmoviz StartedAt: 2025-02-03 15:56:50 -0500 (Mon, 03 Feb 2025) EndedAt: 2025-02-03 15:58:05 -0500 (Mon, 03 Feb 2025) EllapsedTime: 75.6 seconds RetCode: 0 Status: OK