Package: gmoviz Version: 1.18.0 Command: /home/biocbuild/R/R/bin/R CMD build --keep-empty-dirs --no-resave-data gmoviz StartedAt: 2025-01-31 00:00:33 -0000 (Fri, 31 Jan 2025) EndedAt: 2025-01-31 00:02:55 -0000 (Fri, 31 Jan 2025) EllapsedTime: 142.0 seconds RetCode: 0 Status: OK PackageFile: gmoviz_1.18.0.tar.gz PackageFileSize: 4.254 MiB