Package: gmoviz Version: 1.18.0 Command: /home/biocbuild/R/R/bin/R CMD INSTALL gmoviz StartedAt: 2025-02-03 20:51:47 -0000 (Mon, 03 Feb 2025) EndedAt: 2025-02-03 20:52:31 -0000 (Mon, 03 Feb 2025) EllapsedTime: 44.2 seconds RetCode: 0 Status: OK