Package: goSorensen Version: 1.8.0 Command: rm -rf goSorensen.buildbin-libdir && mkdir goSorensen.buildbin-libdir && /Users/biocbuild/BBS/utils/build-universal.sh goSorensen_1.8.0.tar.gz /Library/Frameworks/R.framework/Resources/bin/R goSorensen.buildbin-libdir StartedAt: 2025-02-04 13:05:34 -0500 (Tue, 04 Feb 2025) EndedAt: 2025-02-04 13:06:15 -0500 (Tue, 04 Feb 2025) EllapsedTime: 40.6 seconds RetCode: 0 Status: OK PackageFile: goSorensen_1.8.0.tgz PackageFileSize: 1.674 MiB